BEGIN:VCALENDAR
VERSION:2.0
PRODID:-//forum/handcal//NONSGML v1.0//DE
BEGIN:VEVENT
DTSTART:20140307T193000
DTEND:20140307T210000
DESCRIPTION:Am 07.03.2014 wird es um 19:30 Uhr einen Vortrag zum Thema "Die Entwicklung
  des Schmetterlings" geben. Er findet im Naturschutzzentrum Bergstraße (An
  der Erlache 17, 64625 Bensheim) statt. Zusehen werden sein Makroaufnahmen 
 von arik37 die die kompletten Entwicklungsstadien der Tagfalter zeigen. Vom
  Ei über die Raupe zur Puppe bis hin zum adulten Schmetterling. Der Schwer
 punkt von arik37 sind die heimischen Tagfalter aus Deutschland. Weitere Inf
 ormationen und einen Vorgemschmack finden Sie auf www.arik37.com.
SUMMARY:Die Entwicklung des Schmetterlings - Vortrag
END:VEVENT
END:VCALENDAR