BEGIN:VCALENDAR
VERSION:2.0
PRODID:-//forum/handcal//NONSGML v1.0//DE
BEGIN:VEVENT
DTSTART:20111119T140000
DTEND:20111119T235900
DESCRIPTION:Moin zusammen,nach RÃ¼cksprache mit dem Landhaus ... wir sind:A U S G E B U
  C H TGruÃŸ aus HHGeorg====================================================
 =================Hallo Zusammen,Es ist mal wieder soweit, ein weiteres Nord
 ietreffen zum â€žAusklangâ€œ der fotografischen Saison zu planen.Die Vorber
 eitungen fÃ¼r die siebte Auflage des Nordietreffens sind bereits gestartet.
  Der Ort des Geschehens ist wie in den letzten beiden Jahren so gewÃ¤hlt, d
 ass es eine Mischung aus Bilder zeigen und gemÃ¼tlichem Beisammensein mit K
 lÃ¶nschnack gibt. Jeder Teilnehmer wird also gebeten, Bilder (max. 20) oder
 , wenn vorhanden, einen Vortrag mitzubringen, die dann per Beamer oder Diap
 rojektor gezeigt werden kÃ¶nnen.Der Beamer hat eine AuflÃ¶sung von 1400 X 1
 050. Also nach MÃ¶glichkeit sollte man die Bilder entsprechend runterrechne
 n und bearbeiten, um optimale QualitÃ¤t zeigen zu kÃ¶nnen.AuÃŸerdem liegt d
 ie Location sehr VerkehrsgÃ¼nstig, so dass die Anreise grÃ¶ÃŸtenteils auf d
 er Autobahn stattfinden kann (siehe Anfahrtskizze).Das Nordietreffen findet
  im â€žLandhaus Flottbekâ€œ statt. (Sa. 19.11.2010 / 14:00 Uhr) ), auch die
 smal an einem Samstag, damit eine etwas weitere Anreise eine Teilnahme nich
 t verhindert.http://www.landhaus-flottbek.de/Wir haben dort einen â€žTagung
 sraumâ€œ namens Club House (zum Zeigen der von Euch mitgebrachten Bilder / 
 Dateien, oder Prints), in dem wir auch GetrÃ¤nke aller Art zu uns nehmen kÃ
 ¶nnen, weil das Restaurant direkt nebenan ist.Wir werden ca. 19:00 Uhr eine
 n Tisch im Restaurant haben, um uns zu stÃ¤rken. Es stehen auch kleine Spei
 sen zur VerfÃ¼gung fÃ¼r die Leute, die nur den kleinen Hunger mitbringen. W
 er nichts essen mÃ¶chte, kann natÃ¼rlich trotzdem gern dabei sein und mit a
 llen klÃ¶nen.Eine recht gute Anfahrtskizze kann auf der Homepage vom Landha
 us Flottbek gefunden werden.http://www.landhaus-flottbek.de/downloads/stadt
 plan_flottbek.pdfAber auch hier kann man mal reinschauen, denn Google Maps 
 ist ja auch nicht zu verachten:http://maps.google.de/maps?hl= [verk&uuml;rz
 t] ek&hnear=hamburg&cid=0So, das sollte es erst mal alles an Informationen 
 zur Location sein.Der Tagungsraum wird uns natÃ¼rlich nicht kostenlos zur V
 erfÃ¼gung gestellt werden. Deshalb mÃ¶chte ich gerne darauf hinweisen, dass
  ich auch diesmal eine Umlage von ca. 15 â‚¬ pro Person vorsehe, je nach Te
 ilnehmerzahl. Ich meine, dass diese kleine Investition sicherlich gut angel
 egt ist. Wie zu sehen ist, habe ich das Treffen auf vielfachen Wunsch wiede
 r in den November gelegt, damit einer regen Teilnahme keine herbstlichen Fo
 togelegenheiten im Wege stehen.Ich wÃ¼rde mich daher sehr freuen, zahlreich
 e Zusagen zu diesem Treffen zu haben, um ein Ã¤hnlich schÃ¶nes Treffen wie 
 in den letzten Jahren zu gestalten.Bitte wie folgt vorgehen - Heute noch in
  den Kalender schauen
 - Termin eintragen
 - Kommentar mit Zusage schreiben und zwar hier:[url]599966[/url]Also dann 
 bis bald und GruÃŸ aus HHGeorg
SUMMARY:7. Nordietreffen in Hamburg
END:VEVENT
END:VCALENDAR