BEGIN:VCALENDAR
VERSION:2.0
PRODID:-//forum/handcal//NONSGML v1.0//DE
BEGIN:VEVENT
DTSTART:20110203T200000
DTEND:20110203T213000
DESCRIPTION:Am Donnerstag, den 03.02.11, findet ein Vortrag zum Thema â€žInsekten vor d
 er TÃ¼r - Die Insektenvielfalt an der BergstraÃŸeâ€œ um 20:00 Uhr im Naturp
 arkzentrum in Eberbach (Thalheimsches Haus, Kellereistrasse, 69412 Eberbach
 ) statt. Der Hobbyfotograf Arik Siegel widmet sich seit einigen Jahren gera
 de heimischen Insekten. Zu den bevorzugten Motiven gehÃ¶ren fÃ¼r den GDT-Fo
 tografen (Gesellschaft Deutscher Tierfotografen) die Schmetterlinge der Ber
 gstraÃŸe. Im Vortrag werden auch Serienbilder einer sich putzenden Gottesan
 beterin und einer Libellengeburt gezeigt. Auch werden in diesem Vortrag ers
 tmals einige Zoomfahrten zu sehen sein. Arik Siegel (geb. Janssen) ist 1. P
 reistrÃ¤ger des Internationalen Naturfotografie-Wettbewerbs â€žNaturschÃ¤tz
 e Europas 2009â€œ. Auch in Zeitschriften wie â€žNaturFotoâ€œ, â€žGeoâ€œ, â€
 žDigitalPHOTOâ€œ, â€žEuroNATURâ€œ sowie â€žnatur + kosmosâ€œ finden sich Ma
 kroaufanhmen von arik37. In der Ortsgruppe Meerbachtal des NABU ist er eben
 falls aktiv.
 Um einen Vorgeschmack auf den kommenden Vortrag zu bekommen, kann die Inte
 rnetprÃ¤senz von arik37 besucht werden (siehe Profilseite).
SUMMARY:â€žInsekten vor der TÃ¼r â€“ Die Insektenvielfalt an der BergstraÃŸeâ€œ â€“ Makrofotografien von Arik Siegel (arik37)
END:VEVENT
END:VCALENDAR