BEGIN:VCALENDAR
VERSION:2.0
PRODID:-//forum/handcal//NONSGML v1.0//DE
BEGIN:VEVENT
DTSTART:20110204T193000
DTEND:20110204T210000
DESCRIPTION:Am Freitag, den 04.02.11, findet ein Vortrag zum Thema â€žInsekten vor der 
 TÃ¼r - Die Insektenvielfalt an der BergstraÃŸeâ€œ um 19:30 Uhr im Naturschu
 tzzentrum BergstraÃŸe (An der Erlache 17, 64625 Bensheim) statt. Der Hobbyf
 otograf Arik Siegel widmet sich seit einigen Jahren gerade heimischen Insek
 ten. Zu den bevorzugten Motiven gehÃ¶ren fÃ¼r den GDT-Fotografen (Gesellsch
 aft Deutscher Tierfotografen) die Schmetterlinge der BergstraÃŸe. Im Vortra
 g werden auch Serienbilder einer sich putzenden Gottesanbeterin und einer L
 ibellengeburt gezeigt. Auch werden in diesem Vortrag erstmals einige Zoomfa
 hrten zu sehen sein. Arik Siegel (geb. Janssen) ist 1. PreistrÃ¤ger des Int
 ernationalen Naturfotografie-Wettbewerbs â€žNaturschÃ¤tze Europas 2009â€œ. 
 Auch in Zeitschriften wie â€žNaturFotoâ€œ, â€žGeoâ€œ, â€žDigitalPHOTOâ€œ, â
 €žEuroNATURâ€œ sowie â€žnatur + kosmosâ€œ finden sich Makroaufanhmen von ar
 ik37. In der Ortsgruppe Meerbachtal des NABU ist er ebenfalls aktiv.
 Um einen Vorgeschmack auf den kommenden Vortrag zu bekommen, kann  die Int
 ernetprÃ¤senz von arik37 besucht werden (siehe Profilseite).
SUMMARY:â€žInsekten vor der TÃ¼r â€“ Die Insektenvielfalt an der BergstraÃŸeâ€œ â€“ Makrofotografien von Arik Siegel (arik37)
END:VEVENT
END:VCALENDAR