BEGIN:VCALENDAR
VERSION:2.0
PRODID:-//forum/handcal//NONSGML v1.0//DE
BEGIN:VEVENT
DTSTART:20150214T000000
DTEND:20150215T000000
DESCRIPTION:Der Fotoclub Tele Freisen bietet in Zusammenarbeit mit dem DVF-Saar ein 2-t
 ägiges Basis- und Expertentraining mit Josef Niedermeier zum Thema „AV-P
 räsentationen mit Wings Platinum“ an.Auszug aus den Lerninhalten:Basistr
 ainingGrundfunktionen von Wings Platinum, Technik zur Programmierung und Vo
 rführung, Bilder und Ton erfassen, Kamerafahrten über Standbilder, Soundt
 rack erstellen und bearbeiten …ExpertentrainingBildfelder, Bildanimatione
 n, Kombination von Video und Standbild, Markerspuren, Echtzeit-Effekte, Tit
 elgestaltung, Masken, Tipps und Tricks …DetailsZielgruppe:	Anfänger und 
 Fortgeschrittene.
 Voraussetzung:	eigener Laptop mit installiertem Wings Platinum.
 Termin:	Sa/So 14./15.02.2015 jeweils von 9.00 – 17.00 Uhr
 Referent:	Josef Niedermeier
 Teilnehmerinfo:	Alle Teilnehmer erhalten ca. 1 Woche vor Kursbeginn näher
 e Infos
 Knabbereien und Getränke sind inklusiveYour text to link here...
SUMMARY:Workshop „AV-Präsentationen mit Wings Platinum“
END:VEVENT
END:VCALENDAR